BEGIN:VCALENDAR
VERSION:2.0
PRODID:-//vfb-sennfeld.de - ECPv6.15.20//NONSGML v1.0//EN
CALSCALE:GREGORIAN
METHOD:PUBLISH
X-WR-CALNAME:vfb-sennfeld.de
X-ORIGINAL-URL:https://vfb-sennfeld.de
X-WR-CALDESC:Veranstaltungen für vfb-sennfeld.de
REFRESH-INTERVAL;VALUE=DURATION:PT1H
X-Robots-Tag:noindex
X-PUBLISHED-TTL:PT1H
BEGIN:VTIMEZONE
TZID:UTC
BEGIN:STANDARD
TZOFFSETFROM:+0000
TZOFFSETTO:+0000
TZNAME:UTC
DTSTART:20250101T000000
END:STANDARD
END:VTIMEZONE
BEGIN:VEVENT
DTSTART;TZID=UTC:20260419T150000
DTEND;TZID=UTC:20260419T170000
DTSTAMP:20260423T090241
CREATED:20260406T205442Z
LAST-MODIFIED:20260406T205442Z
UID:18325-1776610800-1776618000@vfb-sennfeld.de
SUMMARY:24. ST. LL\, VfB Sennfeld - FV Mosbach in Roigheim !!!
DESCRIPTION:VfB Sennfeld – FV Mosbach
URL:https://vfb-sennfeld.de/event/24-st-ll-vfb-sennfeld-fv-mosbach-in-roigheim
LOCATION:Sportplatz SV Roigheim
END:VEVENT
END:VCALENDAR