BEGIN:VCALENDAR
VERSION:2.0
PRODID:-//vfb-sennfeld.de - ECPv6.15.20//NONSGML v1.0//EN
CALSCALE:GREGORIAN
METHOD:PUBLISH
X-WR-CALNAME:vfb-sennfeld.de
X-ORIGINAL-URL:https://vfb-sennfeld.de
X-WR-CALDESC:Veranstaltungen für vfb-sennfeld.de
REFRESH-INTERVAL;VALUE=DURATION:PT1H
X-Robots-Tag:noindex
X-PUBLISHED-TTL:PT1H
BEGIN:VTIMEZONE
TZID:UTC
BEGIN:STANDARD
TZOFFSETFROM:+0000
TZOFFSETTO:+0000
TZNAME:UTC
DTSTART:20250101T000000
END:STANDARD
END:VTIMEZONE
BEGIN:VEVENT
DTSTART;TZID=UTC:20260417T190000
DTEND;TZID=UTC:20260417T210000
DTSTAMP:20260423T090217
CREATED:20260406T205143Z
LAST-MODIFIED:20260416T180955Z
UID:18323-1776452400-1776459600@vfb-sennfeld.de
SUMMARY:!! 20. ST KK A\, SpG Lbs 1 / Senf 2 vs TSV Buchen 2 in SENNFELD !!!
DESCRIPTION:SpG Leibenstadt 1 / Sennfeld 2 vs TSV Buchen 2
URL:https://vfb-sennfeld.de/event/17-st-kk-a-spg-lbs-1-senf-2-vs-tsv-buchen-2
LOCATION:Sportgelände VfB Sennfeld
END:VEVENT
END:VCALENDAR