BEGIN:VCALENDAR
VERSION:2.0
PRODID:-//vfb-sennfeld.de - ECPv6.15.20//NONSGML v1.0//EN
CALSCALE:GREGORIAN
METHOD:PUBLISH
X-WR-CALNAME:vfb-sennfeld.de
X-ORIGINAL-URL:https://vfb-sennfeld.de
X-WR-CALDESC:Veranstaltungen für vfb-sennfeld.de
REFRESH-INTERVAL;VALUE=DURATION:PT1H
X-Robots-Tag:noindex
X-PUBLISHED-TTL:PT1H
BEGIN:VTIMEZONE
TZID:UTC
BEGIN:STANDARD
TZOFFSETFROM:+0000
TZOFFSETTO:+0000
TZNAME:UTC
DTSTART:20220101T000000
END:STANDARD
END:VTIMEZONE
BEGIN:VEVENT
DTSTART;TZID=UTC:20230915T190000
DTEND;TZID=UTC:20230915T210000
DTSTAMP:20260419T134046
CREATED:20230725T100933Z
LAST-MODIFIED:20230827T210554Z
UID:9732-1694804400-1694811600@vfb-sennfeld.de
SUMMARY:7. Spieltag Landesliga in Sennfeld\, VfB Sennfeld - TSV Tauberbischofsheim !!!
DESCRIPTION:VfB Sennfeld – TSV Tauberbischofsheim
URL:https://vfb-sennfeld.de/event/7-spieltag-landesliga-odenwald-vfb-sennfeld-tsv-tauberbischofsheim
LOCATION:Sportgelände VfB Sennfeld
END:VEVENT
END:VCALENDAR