BEGIN:VCALENDAR
VERSION:2.0
PRODID:-//vfb-sennfeld.de - ECPv6.15.20//NONSGML v1.0//EN
CALSCALE:GREGORIAN
METHOD:PUBLISH
X-WR-CALNAME:vfb-sennfeld.de
X-ORIGINAL-URL:https://vfb-sennfeld.de
X-WR-CALDESC:Veranstaltungen für vfb-sennfeld.de
REFRESH-INTERVAL;VALUE=DURATION:PT1H
X-Robots-Tag:noindex
X-PUBLISHED-TTL:PT1H
BEGIN:VTIMEZONE
TZID:UTC
BEGIN:STANDARD
TZOFFSETFROM:+0000
TZOFFSETTO:+0000
TZNAME:UTC
DTSTART:20220101T000000
END:STANDARD
END:VTIMEZONE
BEGIN:VEVENT
DTSTART;TZID=UTC:20230728T180000
DTEND;TZID=UTC:20230731T180000
DTSTAMP:20260419T154629
CREATED:20230724T132304Z
LAST-MODIFIED:20230729T162527Z
UID:9688-1690567200-1690826400@vfb-sennfeld.de
SUMMARY:15. Dorffest - Weininsel - Fotoausstellung
DESCRIPTION:
URL:https://vfb-sennfeld.de/event/15-dorffest-weininsel
LOCATION:Seckachstrand an der Festhalle Sennfeld
ATTACH;FMTTYPE=image/jpeg:https://vfb-sennfeld.de/wp-content/uploads/2023/07/20230724_144016-scaled.jpg
END:VEVENT
BEGIN:VEVENT
DTSTART;TZID=UTC:20230730T170000
DTEND;TZID=UTC:20230730T190000
DTSTAMP:20260419T154629
CREATED:20230724T132539Z
LAST-MODIFIED:20230724T132633Z
UID:9690-1690736400-1690743600@vfb-sennfeld.de
SUMMARY:2. Runde BFV ROTHAUS-POKAL\, VfB Sennfeld - VfR Uissigheimn
DESCRIPTION:VfB Sennfeld – VfR Uissigheim
URL:https://vfb-sennfeld.de/event/2-runde-bfv-rothaus-pokal
LOCATION:Sportgelände VfB Sennfeld
ATTACH;FMTTYPE=image/jpeg:https://vfb-sennfeld.de/wp-content/uploads/2023/07/DSC00139-scaled.jpg
END:VEVENT
END:VCALENDAR